BEGIN:VCALENDAR
X-LOTUS-CHARSET:UTF-8
VERSION:2.0
PRODID:ZMS-Berlin
METHOD:PUBLISH
BEGIN:VEVENT
UID:https://gruendung.wfbb.de/ical/event?id=3007-3007
CLASS:PUBLIC
DTSTAMP:20260423T103547
DTSTART;TZID=Europe/Berlin:20230426T160000Z
DTEND;TZID=Europe/Berlin:20230426T160000Z
LOCATION:Campus Griebnitzsee,
SUMMARY:Startup Story Night: FUCK-UP Stories
DESCRIPTION:Bei dem Event des Startup Service der Universität Potsdam geht es um&nbsp;"FUCK-UPs" des Gründungsalltag und wie diese&nbsp;gemeistert werden können. Im Anschluss wird es wieder eine kurze&nbsp;Speed-Pitching-Session geben, bevor es dann ins&nbsp;Open Networking geht.
END:VEVENT
END:VCALENDAR
