BEGIN:VCALENDAR
X-LOTUS-CHARSET:UTF-8
VERSION:2.0
PRODID:ZMS-Berlin
METHOD:PUBLISH
BEGIN:VEVENT
UID:https://gruendung.wfbb.de/ical/event?id=3010-3010
CLASS:PUBLIC
DTSTAMP:20260423T111542
DTSTART;TZID=Europe/Berlin:20230420T070000Z
DTEND;TZID=Europe/Berlin:20230420T070000Z
LOCATION:Deutsches Patent- und Markenamt, Berlin,
SUMMARY:Von der Erfindung zum Patent Know-how für Erfinderinnen und Erfinder
DESCRIPTION:Im eintägigen Seminar erhalten Sie von den DPMA Patent-Experten wertvolles Wissen über die wichtigsten Schritte zum Schutz Ihrer Erfindung, Erfahrungsberichte, Fallstudien und Fehlervermeidung.
END:VEVENT
END:VCALENDAR
