BEGIN:VCALENDAR
X-LOTUS-CHARSET:UTF-8
VERSION:2.0
PRODID:ZMS-Berlin
METHOD:PUBLISH
BEGIN:VEVENT
UID:https://gruendung.wfbb.de/ical/event?id=3149-3149
CLASS:PUBLIC
DTSTAMP:20260421T161355
DTSTART;TZID=Europe/Berlin:20230709T080000Z
DTEND;TZID=Europe/Berlin:20230928T215959Z
LOCATION:Online,
SUMMARY:Gründungswettbewerb – Digitale Innovationen
DESCRIPTION:Der zweiphasige Wettbewerb findet halbjährlich statt. Starttermin für die&nbsp;kommende Winterrunde 2024&nbsp;ist der&nbsp;03.07.2023&nbsp;und die Bewerbungsphase endet am&nbsp;28. September 2023 um 18 Uhr. Für die Bewerbung genügt eine Ideenskizze, die streng vertraulich behandelt wird.
END:VEVENT
END:VCALENDAR
