BEGIN:VCALENDAR
X-LOTUS-CHARSET:UTF-8
VERSION:2.0
PRODID:ZMS-Berlin
METHOD:PUBLISH
BEGIN:VEVENT
UID:https://gruendung.wfbb.de/ical/event?id=3182-3182
CLASS:PUBLIC
DTSTAMP:20260424T110800
DTSTART;TZID=Europe/Berlin:20240612T070000Z
DTEND;TZID=Europe/Berlin:20240612T160000Z
LOCATION:Online,
SUMMARY:Save the Date: Matching Day der Universität Potsdam
DESCRIPTION:Der Matching Day der Universität Potsdam geht in die nächste Runde!
END:VEVENT
END:VCALENDAR
