BEGIN:VCALENDAR
X-LOTUS-CHARSET:UTF-8
VERSION:2.0
PRODID:ZMS-Berlin
METHOD:PUBLISH
BEGIN:VEVENT
UID:https://gruendung.wfbb.de/ical/event?id=3227-3227
CLASS:PUBLIC
DTSTAMP:20260419T165602
DTSTART;TZID=Europe/Berlin:20231206T170000Z
DTEND;TZID=Europe/Berlin:20231206T170000Z
LOCATION:Berlin,
SUMMARY:X-masConnect@BPW
DESCRIPTION:Nutze Deine Chance zum Netzwerken!
END:VEVENT
END:VCALENDAR
