BEGIN:VCALENDAR
X-LOTUS-CHARSET:UTF-8
VERSION:2.0
PRODID:ZMS-Berlin
METHOD:PUBLISH
BEGIN:VEVENT
UID:https://gruendung.wfbb.de/ical/event?id=3247-3247
CLASS:PUBLIC
DTSTAMP:20260423T133910
DTSTART;TZID=Europe/Berlin:20240123T150000Z
DTEND;TZID=Europe/Berlin:20240123T150000Z
LOCATION:Online,
SUMMARY:Einführung in die PURPOSE LAUNCHPAD Methodik 
DESCRIPTION:Startup-Entwicklung leichter und messbarer gemacht

23.01.2024 | 16 - 17 Uhr | Online&nbsp;
END:VEVENT
END:VCALENDAR
