BEGIN:VCALENDAR
X-LOTUS-CHARSET:UTF-8
VERSION:2.0
PRODID:ZMS-Berlin
METHOD:PUBLISH
BEGIN:VEVENT
UID:https://gruendung.wfbb.de/ical/event?id=3279-3279
CLASS:PUBLIC
DTSTAMP:20260423T135638
DTSTART;TZID=Europe/Berlin:20240310T083000Z
DTEND;TZID=Europe/Berlin:20240320T170000Z
LOCATION:Hybrid (München und online),
SUMMARY:DPMAnutzerforum - Die Fachveranstaltung des DPMA für gewerbliche Schutzrechte
DESCRIPTION:Das DPMAnutzerforum 2024 steht ganz&nbsp;im Zeichen der Innovation. An zwei Tagen werden Innovationskraft, Schutzrechte und die Leistungen des Deutschen Patent- und Markenamtes (DPMA) beleuchtet.

&nbsp;
END:VEVENT
END:VCALENDAR
