BEGIN:VCALENDAR
X-LOTUS-CHARSET:UTF-8
VERSION:2.0
PRODID:ZMS-Berlin
METHOD:PUBLISH
BEGIN:VEVENT
UID:https://gruendung.wfbb.de/ical/event?id=3322-3322
CLASS:PUBLIC
DTSTAMP:20260423T140226
DTSTART;TZID=Europe/Berlin:20240422T105140Z
DTEND;TZID=Europe/Berlin:20240422T105140Z
LOCATION:Online,
SUMMARY:Rooftop Pitch Potsdam 2024 – Bewerbungsaufruf für Startups
DESCRIPTION:Am 3. Juni 2024 findet zum fünften Mal der Rooftop Pitch Potsdam 2024 statt – bis zum 22. April können Start-ups sich bewerben! Der Potsdamer Startup-Pitch ist das Sommer-Event für Gründer:innen, Investorinnen und Investoren. Für innovative Startups aus Wissenschaft oder Hochschulen und für Investoren: innen mit Fokus auf Frühphasenfinanzierung ist die Veranstaltung das ideale Forum zur Vernetzung.
END:VEVENT
END:VCALENDAR
