BEGIN:VCALENDAR
X-LOTUS-CHARSET:UTF-8
VERSION:2.0
PRODID:ZMS-Berlin
METHOD:PUBLISH
BEGIN:VEVENT
UID:https://gruendung.wfbb.de/ical/event?id=3346-3346
CLASS:PUBLIC
DTSTAMP:20260423T145052
DTSTART;TZID=Europe/Berlin:20240614T112536Z
DTEND;TZID=Europe/Berlin:20240614T112536Z
LOCATION:Online,
SUMMARY:Teilhabefonds Brandenburg für Existenzgründungen gestartet
DESCRIPTION:STARK-Ideenwettbewerb 2024 für die Lausitz in drei Kategorien!
END:VEVENT
END:VCALENDAR
