BEGIN:VCALENDAR
X-LOTUS-CHARSET:UTF-8
VERSION:2.0
PRODID:ZMS-Berlin
METHOD:PUBLISH
BEGIN:VEVENT
UID:https://gruendung.wfbb.de/ical/event?id=3737-3737
CLASS:PUBLIC
DTSTAMP:20260421T183923
DTSTART;TZID=Europe/Berlin:20250313T130000Z
DTEND;TZID=Europe/Berlin:20250313T130000Z
LOCATION:Breite Straße 2a-c, 14467, Potsdam, IHK Potsdam,
SUMMARY:Frauen auf dem Weg 2025: Mutig gründen. Erfolgreich führen.
DESCRIPTION:Im Rahmen der Brandenburgischen Frauenwochen findet am 13. März 2025 von 15 bis 19 Uhr die Veranstaltung „Frauen auf dem Weg“ in der IHK Potsdam statt. Ganz nach dem Motto „Mutig gründen. Erfolgreich führen.“ laden wir Gründerinnen, Unternehmerinnen und alle interessierten Frauen und Männer zu einem Fachaustausch ein. 
END:VEVENT
END:VCALENDAR
