BEGIN:VCALENDAR
X-LOTUS-CHARSET:UTF-8
VERSION:2.0
PRODID:ZMS-Berlin
METHOD:PUBLISH
BEGIN:VEVENT
UID:https://gruendung.wfbb.de/ical/event?id=3738-3738
CLASS:PUBLIC
DTSTAMP:20260423T145348
DTSTART;TZID=Europe/Berlin:20250225T130000Z
DTEND;TZID=Europe/Berlin:20250225T130000Z
LOCATION:Babelsberger Straße 21, 14473, Potsdam, Investitionsbank des Landes Brandenburg,
SUMMARY:BPW: Finanzforum 2025
DESCRIPTION:Geballtes Wissen rund um das Thema Finanzierung!
Zahlreiche Finanzierungsexpertinnen und -experten geben Ihnen Impulse, damit Ihre Gründung nicht nur ein Traum bleibt. In der Förderbank des Landes Brandenburg, der ILB, geht es am 25. Februar um Zahlen, Strategien und Erfahrungsberichte. Ein beliebtes Format, das Gründerinnen und Gründern Durchblick verschafft.
END:VEVENT
END:VCALENDAR
