BEGIN:VCALENDAR
X-LOTUS-CHARSET:UTF-8
VERSION:2.0
PRODID:ZMS-Berlin
METHOD:PUBLISH
BEGIN:VEVENT
UID:https://gruendung.wfbb.de/ical/event?id=3740-3740
CLASS:PUBLIC
DTSTAMP:20260419T170901
DTSTART;TZID=Europe/Berlin:20250325T160000Z
DTEND;TZID=Europe/Berlin:20250325T160000Z
LOCATION:Hauptstraße 56, 14776, Brandenburg an der Havel, Havel Space,
SUMMARY:Sekt & Synergien mit Havel Valley in Brandenburg an der Havel
DESCRIPTION:Die Netzwerkveranstaltungsreihe öffnet die Türen der Wirkungsstätten unterschiedlicher Gründerinnen und Gründer. Gründungsinteressierte können in entspannter Atmosphäre mit Selbstständigen und ihren Unterstützerinnen und Unterstützern bei einem Getränk ins Gespräch kommen und wertvolle Erfahrungen austauschen. Diesmal im Havel Space, Headquarter von Havel Valley in Brandenburg.
END:VEVENT
END:VCALENDAR
