BEGIN:VCALENDAR
X-LOTUS-CHARSET:UTF-8
VERSION:2.0
PRODID:ZMS-Berlin
METHOD:PUBLISH
BEGIN:VEVENT
UID:https://gruendung.wfbb.de/ical/event?id=3759-3759
CLASS:PUBLIC
DTSTAMP:20260423T134817
DTSTART;TZID=Europe/Berlin:20250402T130000Z
DTEND;TZID=Europe/Berlin:20250402T130000Z
LOCATION:Gitschiner Straße 97, 10969, Berlin,
SUMMARY:Einsteiger-Seminar „Gewerbliche Schutzrechte im Überblick“
DESCRIPTION:In dem zweistündigen Seminar wird Ihnen wertvolles Know-how über die wichtigsten Aspekte des
Schutzes von geistigem Eigentum in Unternehmen vermittelt, um Ihre Potentiale im Bereich geistiges
Eigentum rechtzeitig zu erkennen und erfolgreich durchzusetzen.
END:VEVENT
END:VCALENDAR
