BEGIN:VCALENDAR
X-LOTUS-CHARSET:UTF-8
VERSION:2.0
PRODID:ZMS-Berlin
METHOD:PUBLISH
BEGIN:VEVENT
UID:https://gruendung.wfbb.de/ical/event?id=3925-3925
CLASS:PUBLIC
DTSTAMP:20260423T121435
DTSTART;TZID=Europe/Berlin:20250710T120000Z
DTEND;TZID=Europe/Berlin:20250710T120000Z
LOCATION:online,
SUMMARY:Nachfolge kann auch weiblich - Erfahre, warum eine Unternehmensnachfolge eine attraktive Karriereoption ist!
DESCRIPTION:Im Rahmen einer einstündigen Onlineveranstaltung sprechen Laura Foddis, Gründerin von nächstes kapitel, und Geschäftsführerin und Nachfolgerin, Laura Maria Schmidt, vom Duden Institut für Lerntherapie Berlin über weibliche Perspektiven in der Nachfolge. Nach einem kurzen Impuls von Laura Foddis folgt ein Interview mit Laura Maria Schmidt, in dem Herausforderungen, Chancen und Erfahrungen rund um das Thema Nachfolge aus weiblicher Sicht beleuchtet werden. Die Veranstaltung bietet Raum für Inspiration und Austausch und richtet sich an alle Frauen, die sich für das Thema Nachfolge interessieren.
END:VEVENT
END:VCALENDAR
