BEGIN:VCALENDAR
X-LOTUS-CHARSET:UTF-8
VERSION:2.0
PRODID:ZMS-Berlin
METHOD:PUBLISH
BEGIN:VEVENT
UID:https://gruendung.wfbb.de/ical/event?id=3971-3971
CLASS:PUBLIC
DTSTAMP:20260423T121258
DTSTART;TZID=Europe/Berlin:20250721T093000Z
DTEND;TZID=Europe/Berlin:20250721T093000Z
LOCATION:
SUMMARY:Snack & Learn: Digitales Recruiting kompakt erklärt
DESCRIPTION:In unserer kompakten 30-minütigen Snack & Learn-Session geben sie Ihnen einen praxisnahen Überblick über aktuelle Trends, erprobte Tools und konkrete Handlungsempfehlungen, mit denen Sie digitales Recruiting gezielt und effektiv für Ihren Unternehmenserfolg nutzen können.
END:VEVENT
END:VCALENDAR
