BEGIN:VCALENDAR
X-LOTUS-CHARSET:UTF-8
VERSION:2.0
PRODID:ZMS-Berlin
METHOD:PUBLISH
BEGIN:VEVENT
UID:https://gruendung.wfbb.de/ical/event?id=4081-4081
CLASS:PUBLIC
DTSTAMP:20260419T171801
DTSTART;TZID=Europe/Berlin:20251127T130000Z
DTEND;TZID=Europe/Berlin:20251127T130000Z
LOCATION:Berlin,
SUMMARY:Unerwartet innovativ: wie Startups und neue Ideen den Weg in die Telekom finden 
DESCRIPTION:Das ehemalige Fernmeldeamt in der Berliner Winterfeldstraße ist seit je her ein Ort der Innovation. Wo früher das „Fräulein“ vom Amt schaltete und waltete, treffen sich heute Startups, Forschung & Entwicklung sowie viele spannende Innovationsinitiativen.
END:VEVENT
END:VCALENDAR
