BEGIN:VCALENDAR
X-LOTUS-CHARSET:UTF-8
VERSION:2.0
PRODID:ZMS-Berlin
METHOD:PUBLISH
BEGIN:VEVENT
UID:https://gruendung.wfbb.de/ical/event?id=4108-4108
CLASS:PUBLIC
DTSTAMP:20260423T104538
DTSTART;TZID=Europe/Berlin:20251118T090000Z
DTEND;TZID=Europe/Berlin:20251118T090000Z
LOCATION:Online,
SUMMARY:WFBB Startup Q&A — Beratungen für Startups und Wissenschaftler:innen mit einer Gründungsidee!
DESCRIPTION:Ihr habt eine Gründungsidee und fragt Euch, wie es damit weitergehen kann? Euch interessiert, welche Fördermöglichkeiten es für junge Startups gibt? Und Ihr möchtet wissen, welches die ersten Schritte direkt nach der Unternehmensgründung sind? Oder braucht Ihr Informationen, wie man wertvolle Netzwerke findet und Zugang zu den wichtigen Stakeholdern bekommt?
END:VEVENT
END:VCALENDAR
