BEGIN:VCALENDAR
X-LOTUS-CHARSET:UTF-8
VERSION:2.0
PRODID:ZMS-Berlin
METHOD:PUBLISH
BEGIN:VEVENT
UID:https://gruendung.wfbb.de/ical/event?id=4111-4111
CLASS:PUBLIC
DTSTAMP:20260423T140052
DTSTART;TZID=Europe/Berlin:20251103T173000Z
DTEND;TZID=Europe/Berlin:20251103T173000Z
LOCATION:Stadt Falkensee,
SUMMARY:(Un)sichtbar? - Marketing! Gründungstag in Falkensee
DESCRIPTION:Workshops, Beratung und Austausch rund um Gründung, Nachfolge und junges Unternehmertum stehen an diesem Abend im Fokus. Zwei nacheinander im Bistro stattfindende Workshops von Daniela Purps, Marketing und KI Consultant mit langjähriger Erfahrung im Onlinemarketing und KI-Marketing-Bereich, vermitteln wertvolle Informationen zum Thema Marketing.

 
END:VEVENT
END:VCALENDAR
