BEGIN:VCALENDAR
X-LOTUS-CHARSET:UTF-8
VERSION:2.0
PRODID:ZMS-Berlin
METHOD:PUBLISH
BEGIN:VEVENT
UID:https://gruendung.wfbb.de/ical/event?id=4124-4124
CLASS:PUBLIC
DTSTAMP:20260423T134218
DTSTART;TZID=Europe/Berlin:20251125T120000Z
DTEND;TZID=Europe/Berlin:20251125T130000Z
LOCATION:Online,
SUMMARY:Admin Secrets - So läuft deine Förderung reibungslos!: Mittelabrufe im Rahmen von Gründung innovativ
DESCRIPTION:Der Gründung innovativ Antrag ist eingereicht und der erste oder nächste Mittelabruf steht an? Aber die Tabellen, Formulare, Belege und co. rufen zu viele Fragezeichen im Kopf hervor? Enrico Tegatz, Sachbearbeiter der ILB für Gründung innovativ, erklärt, worauf es beim Mittelabruf ankommt, was zu beachten ist und welche Fallstricke es gibt.\n\nLink: https://teams.microsoft.com/l/meetup-join/19%3ameeting_YTY2ZDc5ZDUtNjYxZS00MDVmLWFjODctZTg4MmFiMGI3YmQx%40thread.v2/0?context=%7b%22Tid%22%3a%22edce049f-ebb1-4369-866f-f4cb7402bb8e%22%2c%22Oid%22%3a%227ab0fead-e7aa-43c7-9ea6-80b24cda67b2%22%7d
END:VEVENT
END:VCALENDAR
