BEGIN:VCALENDAR
X-LOTUS-CHARSET:UTF-8
VERSION:2.0
PRODID:ZMS-Berlin
METHOD:PUBLISH
BEGIN:VEVENT
UID:https://gruendung.wfbb.de/ical/event?id=4282-4282
CLASS:PUBLIC
DTSTAMP:20260420T103320
DTSTART;TZID=Europe/Berlin:20260331T075210Z
DTEND;TZID=Europe/Berlin:20260331T075210Z
LOCATION:
SUMMARY:Jetzt für Kohorte 2 bewerben – Start Juli 2026 im Incubator Village Beeskow!
DESCRIPTION:Du brauchst Unterstützung beim Aufbau deines Business? Unser kostenfreies Accelerator Programm bringt dein Start‒up auf die Überholspur.
END:VEVENT
END:VCALENDAR
